BEGIN:VCALENDAR
VERSION:2.0
PRODID:-//eventon.com NONSGML v1.0//EN
CALSCALE:GREGORIAN
METHOD:PUBLISH
BEGIN:VEVENT
UID:69e74af527b87
DTSTAMP:20260421T100125Z
DTSTART:20210617T110000Z
DTEND:20210617T120000Z
LOCATION:
SUMMARY:欧盟产品召回制度及企业应对方案解析
DESCRIPTION:合作机构： 中国玩具和婴童用品协会 培训内容
  • 欧盟产品召回系统• 企业安全责任• 欧盟新规简介
 [..]\nhttps://speac-project.eu/zh-hans/events/oumeng-chanpin-zhaohui-zhidu-
 ji-qiye-yingdui-fangan-jiexi/
URL:https://speac-project.eu/zh-hans/events/oumeng-chanpin-zhaohui-zhidu-ji-qiye-yingdui-fangan-jiexi/
END:VEVENT
END:VCALENDAR