BEGIN:VCALENDAR
VERSION:2.0
PRODID:-//eventon.com NONSGML v1.0//EN
CALSCALE:GREGORIAN
METHOD:PUBLISH
BEGIN:VEVENT
UID:69e743f5416d1
DTSTAMP:20260421T093133Z
DTSTART:20211209T070000Z
DTEND:20211209T083000Z
LOCATION:
SUMMARY:Avoiding serious safety risks of electrical appliances exported to the EU
DESCRIPTION:In cooperation with: TUV Austria Main Contents: Overview of rea
 l safety problems found with electrical products on sale in the EU which ha
 ve originated in China Managing the risk of an electric shock to make safe 
 electric heating products of small household appliances &amp; hand-held pow
 er tools Managing risk in[..]\nhttps://speac-project.eu/events/avoiding-ser
 ious-safety-risks-of-electrical-appliances-exported-to-the-eu/
URL:https://speac-project.eu/events/avoiding-serious-safety-risks-of-electrical-appliances-exported-to-the-eu/
END:VEVENT
END:VCALENDAR